BEGIN:VCALENDAR
VERSION:2.0
PRODID:-//ChamberMaster//Event Calendar 2.0//EN
METHOD:PUBLISH
X-PUBLISHED-TTL:P3D
REFRESH-INTERVAL:P3D
CALSCALE:GREGORIAN
BEGIN:VEVENT
DTSTART:20140201T000000Z
DTEND:20140201T040000Z
X-MICROSOFT-CDO-ALLDAYEVENT:FALSE
SUMMARY:Basketball Girls Varsity Central Conference Tournament 1/31/2014
DESCRIPTION:Basketball Girls Varsity Central Conference Tournament \n\n\n\nhttp://www.connectseward.org
X-ALT-DESC;FMTTYPE=text/html:Basketball Girls Varsity Central Conference Tournament&nbsp\;<br />\n<br />\n<a href="http://www.connectseward.org">http://www.connectseward.org</a>
LOCATION:Seward High School 532 Northern Heights Dr. Seward\, NE
UID:e.865.3457
SEQUENCE:3
DTSTAMP:20260421T153712Z
URL:https://business.cultivatesewardcounty.com/events/details/basketball-girls-varsity-central-conference-tournament-1-31-2014-01-31-2014-3457
END:VEVENT

END:VCALENDAR
