BEGIN:VCALENDAR
VERSION:2.0
PRODID:-//ChamberMaster//Event Calendar 2.0//EN
METHOD:PUBLISH
X-PUBLISHED-TTL:P3D
REFRESH-INTERVAL:P3D
CALSCALE:GREGORIAN
BEGIN:VEVENT
DTSTART:20140131T000000Z
DTEND:20140131T040000Z
X-MICROSOFT-CDO-ALLDAYEVENT:FALSE
SUMMARY:Basketball Boys Varsity Central Conference Tournament 1/30/2014
DESCRIPTION:Basketball Boys Varsity Central Conference Tournament\n\n\n\nhttp://www.connectseward.org
X-ALT-DESC;FMTTYPE=text/html:Basketball Boys Varsity Central Conference Tournament<br />\n<br />\n<a href="http://www.connectseward.org">http://www.connectseward.org</a>
LOCATION:Seward High School 532 Northern Heights Drive Seward\, NE
UID:e.865.3455
SEQUENCE:3
DTSTAMP:20260421T153620Z
URL:https://business.cultivatesewardcounty.com/events/details/basketball-boys-varsity-central-conference-tournament-1-30-2014-01-30-2014-3455
END:VEVENT

END:VCALENDAR
