BEGIN:VCALENDAR
VERSION:2.0
PRODID:-//ChamberMaster//Event Calendar 2.0//EN
METHOD:PUBLISH
X-PUBLISHED-TTL:P3D
REFRESH-INTERVAL:P3D
CALSCALE:GREGORIAN
BEGIN:VEVENT
DTSTART:20130407T140000Z
DTEND:20130407T230000Z
X-MICROSOFT-CDO-ALLDAYEVENT:FALSE
SUMMARY:Baseball Tournament Plum Creek Park
DESCRIPTION:Baseball tournament with 16 teams playing.
X-ALT-DESC;FMTTYPE=text/html:Baseball tournament with 16 teams playing.&nbsp\; 
LOCATION:Plum Creek Sports Complex 2222 Karol Kay Blvd. Seward
UID:e.865.1922
SEQUENCE:3
DTSTAMP:20260422T044849Z
URL:https://business.cultivatesewardcounty.com/events/details/baseball-tournament-plum-creek-park-04-07-2013-1922
END:VEVENT

END:VCALENDAR
