BEGIN:VCALENDAR
VERSION:2.0
PRODID:-//ChamberMaster//Event Calendar 2.0//EN
METHOD:PUBLISH
X-PUBLISHED-TTL:P3D
REFRESH-INTERVAL:P3D
CALSCALE:GREGORIAN
BEGIN:VEVENT
DTSTART:20140426T000000Z
DTEND:20140426T013000Z
X-MICROSOFT-CDO-ALLDAYEVENT:FALSE
SUMMARY:Backroads Accoustic Duo
DESCRIPTION:Red Path Gallery "Backroads" Acoustic Duo featuring Andrea von Kampen and Jimmy Steinauer.
X-ALT-DESC;FMTTYPE=text/html:Red Path Gallery &quot\;Backroads&quot\; Acoustic Duo featuring Andrea von Kampen and Jimmy Steinauer.
LOCATION:Red Path Gallery and Tasting Room 514 Seward St.
UID:e.865.3606
SEQUENCE:3
DTSTAMP:20260421T114249Z
URL:https://business.cultivatesewardcounty.com/events/details/backroads-accoustic-duo-04-25-2014-3606
END:VEVENT

END:VCALENDAR
