BEGIN:VCALENDAR
VERSION:2.0
PRODID:-//ChamberMaster//Event Calendar 2.0//EN
METHOD:PUBLISH
X-PUBLISHED-TTL:P3D
REFRESH-INTERVAL:P3D
CALSCALE:GREGORIAN
BEGIN:VEVENT
DTSTART:20140718T000000Z
DTEND:20140718T010000Z
X-MICROSOFT-CDO-ALLDAYEVENT:FALSE
SUMMARY:Author Dr. James Kimble presentation on his book
DESCRIPTION:Author Dr. James Kimball presentation on his book "Prairie Forge:  The Extraordinary Story of the Nebraska Scrap Metal Drive of World War II" at Seward Memorial Library     http://www.sewardlibrary.org
X-ALT-DESC;FMTTYPE=text/html:Author Dr. James Kimball presentation on his book &quot\;Prairie Forge:&nbsp\; The Extraordinary Story of the Nebraska Scrap Metal Drive of World War II&quot\; at Seward Memorial Library&nbsp\;&nbsp\;&nbsp\;&nbsp\;&nbsp\;<a href="http://www.sewardlibrary.org">http://www.sewardlibrary.org</a>&nbsp\;&nbsp\;
LOCATION:Seward Memorial Library 233 South 5th St. Seward\, NE
UID:e.865.3968
SEQUENCE:3
DTSTAMP:20260421T083800Z
URL:https://business.cultivatesewardcounty.com/events/details/author-dr-james-kimble-presentation-on-his-book-07-17-2014-3968
END:VEVENT

END:VCALENDAR
