BEGIN:VCALENDAR
VERSION:2.0
PRODID:-//ChamberMaster//Event Calendar 2.0//EN
METHOD:PUBLISH
X-PUBLISHED-TTL:P3D
REFRESH-INTERVAL:P3D
CALSCALE:GREGORIAN
BEGIN:VEVENT
DTSTART;VALUE=DATE:20111201
DTEND;VALUE=DATE:20111202
TRANSP:TRANSPARENT
X-MICROSOFT-CDO-ALLDAYEVENT:TRUE
SUMMARY:Art by JeNeane K. Dodson
DESCRIPTION:Art by JeNeane K. Dodson of Lincoln\, NE will be on display at the Seward Civic Center Art Gallery beginning November 1st\, 2011
X-ALT-DESC;FMTTYPE=text/html:Art by JeNeane K. Dodson of Lincoln\, NE will be on display at the Seward Civic Center Art Gallery beginning November 1st\, 2011
LOCATION:Seward Civic Center Art Gallery 616 Bradford St. Seward\, NE 68434 West Door Entry
UID:e.865.1161
SEQUENCE:3
DTSTAMP:20260424T124457Z
URL:https://business.cultivatesewardcounty.com/events/details/art-by-jeneane-k-dodson-12-01-2011-1161
END:VEVENT

END:VCALENDAR
