BEGIN:VCALENDAR
VERSION:2.0
PRODID:-//ChamberMaster//Event Calendar 2.0//EN
METHOD:PUBLISH
X-PUBLISHED-TTL:P3D
REFRESH-INTERVAL:P3D
CALSCALE:GREGORIAN
BEGIN:VEVENT
DTSTART;VALUE=DATE:20130426
DTEND;VALUE=DATE:20130427
TRANSP:TRANSPARENT
X-MICROSOFT-CDO-ALLDAYEVENT:TRUE
SUMMARY:Arbor Day Celebration
DESCRIPTION:Arbor Day Celebration  - The first Arbor Day was held on April 10\, 1872 and an estimated one million trees were planted.
X-ALT-DESC;FMTTYPE=text/html:Arbor Day Celebration&nbsp\; - The first Arbor Day was held on April 10\, 1872 and an estimated one million trees were planted.&nbsp\; 
LOCATION:Harvest Hall Seward County Fairgrounds 500 North 14th St Seward\, NE
UID:e.865.2074
SEQUENCE:3
DTSTAMP:20260422T031334Z
URL:https://business.cultivatesewardcounty.com/events/details/arbor-day-celebration-04-26-2013-2074
END:VEVENT

END:VCALENDAR
