BEGIN:VCALENDAR
VERSION:2.0
PRODID:-//ChamberMaster//Event Calendar 2.0//EN
METHOD:PUBLISH
X-PUBLISHED-TTL:P3D
REFRESH-INTERVAL:P3D
CALSCALE:GREGORIAN
BEGIN:VEVENT
DTSTART:20130407T180000Z
DTEND:20130407T210000Z
X-MICROSOFT-CDO-ALLDAYEVENT:FALSE
SUMMARY:Antique Road Show and Antique Appraisal
DESCRIPTION:Antique Road Show / Antique Appraisal\n\n	Greene House  600 Church Street\n\n	Sunday\, April 7th\n\n	1pm - 4 pm\n\n	\n\n	Ever wonder what your treasured antique is worth?  \n\n	Bring your antiques to the Greene House and we will appraise it for you....for free!!!!!\n\n	\n\n	Antique Show featuring 18 booths\n\n	Vendors- please call Carrie Fitzke at 402-314-0071 to reserve your booth.\n\n	Limit 3 tables per vendor.
X-ALT-DESC;FMTTYPE=text/html:<p style="text-align: center\; ">\n	<strong>Antique Road Show / Antique Appraisal</strong><br />\n	Greene House &nbsp\;600 Church Street<br />\n	Sunday\, April 7th<br />\n	1pm - 4 pm<br />\n	<br />\n	Ever wonder what your treasured antique is worth? &nbsp\;<br />\n	Bring your antiques to the Greene House and we will appraise it for you....for free!!!!!<br />\n	<br />\n	Antique Show featuring 18 booths<br />\n	Vendors- please call Carrie Fitzke at 402-314-0071 to reserve your booth.<br />\n	Limit 3 tables per vendor.<br />\n	<br />\n	<br />\n	<br />\n	<br />\n	&nbsp\;</p>\n
LOCATION:The Greene House 600 Church Street
UID:e.865.1753
SEQUENCE:3
DTSTAMP:20260422T032013Z
URL:https://business.cultivatesewardcounty.com/events/details/antique-road-show-and-antique-appraisal-04-07-2013-1753
END:VEVENT

END:VCALENDAR
