BEGIN:VCALENDAR
VERSION:2.0
PRODID:-//ChamberMaster//Event Calendar 2.0//EN
METHOD:PUBLISH
X-PUBLISHED-TTL:P3D
REFRESH-INTERVAL:P3D
CALSCALE:GREGORIAN
BEGIN:VEVENT
DTSTART:20120304T200000Z
DTEND:20120304T220000Z
X-MICROSOFT-CDO-ALLDAYEVENT:FALSE
SUMMARY:Antigone theatre performance
DESCRIPTION:This Greek tragedy examines a young woman's conflict between family honor and obeying the law. Performances in the Studio Theatre\, Music Center. Tickets are $5 at the door.
X-ALT-DESC;FMTTYPE=text/html:This Greek tragedy examines a young woman&rsquo\;s conflict between family honor and obeying the law. Performances in the Studio Theatre\, Music Center. Tickets are $5 at the door. &nbsp\;
LOCATION:Studio Theatre\, Music Center\, Concordia University
UID:e.865.1363
SEQUENCE:3
DTSTAMP:20260424T082727Z
URL:https://business.cultivatesewardcounty.com/events/details/antigone-theatre-performance-03-04-2012-1363
END:VEVENT

END:VCALENDAR
