BEGIN:VCALENDAR
VERSION:2.0
PRODID:-//ChamberMaster//Event Calendar 2.0//EN
METHOD:PUBLISH
X-PUBLISHED-TTL:P3D
REFRESH-INTERVAL:P3D
CALSCALE:GREGORIAN
BEGIN:VEVENT
DTSTART:20120304T013000Z
DTEND:20120304T040000Z
X-MICROSOFT-CDO-ALLDAYEVENT:FALSE
SUMMARY:Antigone theatre performance
DESCRIPTION:This Greek tragedy examines a young woman's conflict between family honor and obeying the law. Performances in the Studio Theatre\, Music Center. Tickets are $5 at the door.
X-ALT-DESC;FMTTYPE=text/html:This Greek tragedy examines a young woman&rsquo\;s conflict between family honor and obeying the law. Performances in the Studio Theatre\, Music Center. Tickets are $5 at the door. &nbsp\;
LOCATION:Studio Theatre\, Music Center\, Concordia University
UID:e.865.1360
SEQUENCE:3
DTSTAMP:20260424T122157Z
URL:https://business.cultivatesewardcounty.com/events/details/antigone-theatre-performance-03-03-2012-1360
END:VEVENT

END:VCALENDAR
