BEGIN:VCALENDAR
VERSION:2.0
PRODID:-//ChamberMaster//Event Calendar 2.0//EN
METHOD:PUBLISH
X-PUBLISHED-TTL:P3D
REFRESH-INTERVAL:P3D
CALSCALE:GREGORIAN
BEGIN:VEVENT
DTSTART:20110811T230000Z
DTEND:20110812T000000Z
X-MICROSOFT-CDO-ALLDAYEVENT:FALSE
SUMMARY:Annual MHCS Baby Olympics
DESCRIPTION:1.  Baby Crawling Contest:  Crawling babies only (babies that can walk will not be accepted)\n\n\n\n2. Walking Contest:  Beginners to 15 mo.\n\n\n\n3. Running Contest:  16 mo. - 24 mo.\n\n\n\n4. Obstacle Course:  2 year olds\n\n\n\n5. Obstacle Course:  3 year olds\n\n\n\nRibbons will be awarded to all contestants. \n\n1st\, 2nd\, and 3rd places will be awarded PRIZES!\n\n\n\nRegister for the "Olympics" at the Ag Pavilion\n\nat 5:00 pm on Thurday 8/11/11.
X-ALT-DESC;FMTTYPE=text/html:1.&nbsp\; Baby Crawling&nbsp\;Contest:&nbsp\; Crawling babies only (babies that can walk will&nbsp\;not be accepted)<br />\n<br />\n2. Walking&nbsp\;Contest:&nbsp\; Beginners to 15 mo.<br />\n<br />\n3. Running&nbsp\;Contest:&nbsp\; 16 mo. - 24 mo.<br />\n<br />\n4. Obstacle Course:&nbsp\; 2 year olds<br />\n<br />\n5. Obstacle Course:&nbsp\; 3 year olds<br />\n<br />\nRibbons will be awarded to all contestants.&nbsp\;<br />\n1st\, 2nd\, and 3rd places will be awarded PRIZES!<br />\n<br />\nRegister for&nbsp\;the &quot\;Olympics&quot\; at the Ag Pavilion<br />\nat 5:00 pm on Thurday 8/11/11.<br />\n<br />\n&nbsp\;&nbsp\;&nbsp\;
LOCATION:Seward Ag Pavilion
UID:e.865.1127
SEQUENCE:3
DTSTAMP:20260424T184954Z
URL:https://business.cultivatesewardcounty.com/events/details/annual-mhcs-baby-olympics-08-11-2011-1127
END:VEVENT

END:VCALENDAR
