BEGIN:VCALENDAR
VERSION:2.0
PRODID:-//ChamberMaster//Event Calendar 2.0//EN
METHOD:PUBLISH
X-PUBLISHED-TTL:P3D
REFRESH-INTERVAL:P3D
CALSCALE:GREGORIAN
BEGIN:VEVENT
DTSTART:20140112T000000Z
DTEND:20140112T030000Z
X-MICROSOFT-CDO-ALLDAYEVENT:FALSE
SUMMARY:Annual Chamber Membership Extravaganza
DESCRIPTION:Join us for the Annual Chamber Membership Meeting "The Extravaganza" . . . Believe in the Magic. Keynote Speaker: Rick Wallace\, Executive Director of Community Development Resources of Lincoln.  Cash Bar by Red Path Gallery & Tasting Room. Elegant Buffet & Desserts by Chartwells.
X-ALT-DESC;FMTTYPE=text/html:Join us for the Annual Chamber Membership Meeting &quot\;The Extravaganza&quot\; . . . Believe in the Magic. Keynote Speaker: Rick Wallace\, Executive Director of Community Development Resources of Lincoln.&nbsp\; Cash Bar by Red Path Gallery &amp\; Tasting Room. Elegant Buffet &amp\; Desserts by Chartwells.
LOCATION:Harvest Hall\, Seward County Fairgrounds
UID:e.865.3429
SEQUENCE:3
DTSTAMP:20260421T153210Z
URL:https://business.cultivatesewardcounty.com/events/details/annual-chamber-membership-extravaganza-01-11-2014-3429
END:VEVENT

END:VCALENDAR
