BEGIN:VCALENDAR
VERSION:2.0
PRODID:-//ChamberMaster//Event Calendar 2.0//EN
METHOD:PUBLISH
X-PUBLISHED-TTL:P3D
REFRESH-INTERVAL:P3D
CALSCALE:GREGORIAN
BEGIN:VEVENT
DTSTART:20131207T010000Z
DTEND:20131207T020000Z
X-MICROSOFT-CDO-ALLDAYEVENT:FALSE
SUMMARY:An Evening with Sally Jost at the Piano
DESCRIPTION:Listen to Sally as she plays a selection of holiday music.  Refreshments will be served following the concert.  Sponsored by Zabka Funeral Home.
X-ALT-DESC;FMTTYPE=text/html:Listen to Sally as she plays a selection of holiday music. &nbsp\;Refreshments will be served following the concert. &nbsp\;Sponsored by Zabka&nbsp\;Funeral Home. &nbsp\;
LOCATION:Olde Glory Theatre on 4th & Jackson Streets (the former Presbyterian Church)
UID:e.865.3428
SEQUENCE:3
DTSTAMP:20260421T180224Z
URL:https://business.cultivatesewardcounty.com/events/details/an-evening-with-sally-jost-at-the-piano-12-06-2013-3428
END:VEVENT

END:VCALENDAR
