BEGIN:VCALENDAR
VERSION:2.0
PRODID:-//ChamberMaster//Event Calendar 2.0//EN
METHOD:PUBLISH
X-PUBLISHED-TTL:P3D
REFRESH-INTERVAL:P3D
CALSCALE:GREGORIAN
BEGIN:VEVENT
DTSTART:20140503T190000Z
DTEND:20140503T210000Z
X-MICROSOFT-CDO-ALLDAYEVENT:FALSE
SUMMARY:An Afternoon with Edith Wharton
DESCRIPTION:An afternoon tea party followed by a short Edith Wharton play "Xingu."
X-ALT-DESC;FMTTYPE=text/html:An afternoon tea party followed by a short Edith Wharton play &quot\;Xingu.&quot\;
LOCATION:Olde Glory Theatre and Community Hall\, 348 Jackson St.
UID:e.865.3608
SEQUENCE:3
DTSTAMP:20260421T094624Z
URL:https://business.cultivatesewardcounty.com/events/details/an-afternoon-with-edith-wharton-05-03-2014-3608
END:VEVENT

END:VCALENDAR
