BEGIN:VCALENDAR
VERSION:2.0
PRODID:-//ChamberMaster//Event Calendar 2.0//EN
METHOD:PUBLISH
X-PUBLISHED-TTL:P3D
REFRESH-INTERVAL:P3D
CALSCALE:GREGORIAN
BEGIN:VEVENT
DTSTART:20140517T000000Z
DTEND:20140517T013000Z
X-MICROSOFT-CDO-ALLDAYEVENT:FALSE
SUMMARY:An Acoustic Evening with Jimmy Steinauer 5/16/2014
DESCRIPTION:
X-ALT-DESC;FMTTYPE=text/html:
LOCATION:Red Path Gallery & Tasting Room 514 Seward St.
UID:e.865.3931
SEQUENCE:3
DTSTAMP:20260421T100824Z
URL:https://business.cultivatesewardcounty.com/events/details/an-acoustic-evening-with-jimmy-steinauer-5-16-2014-05-16-2014-3931
END:VEVENT

END:VCALENDAR
