BEGIN:VCALENDAR
VERSION:2.0
PRODID:-//ChamberMaster//Event Calendar 2.0//EN
METHOD:PUBLISH
X-PUBLISHED-TTL:P3D
REFRESH-INTERVAL:P3D
CALSCALE:GREGORIAN
BEGIN:VEVENT
DTSTART:20131016T220000Z
DTEND:20131017T010000Z
X-MICROSOFT-CDO-ALLDAYEVENT:FALSE
SUMMARY:Amigos Fundraiser for Seward Christmas Activities 10/16/2014
DESCRIPTION:Eat at the Seward Amigos to benefit the Seward Area Chamber of Commerce Christmas Committee. Proceeds will be used for Christmas activities and decoration around town.
X-ALT-DESC;FMTTYPE=text/html:Eat at the Seward Amigos to benefit the Seward Area Chamber of Commerce Christmas Committee. Proceeds will be used for Christmas activities and decoration around town.
LOCATION:Seward Amigos\, 442 N 6th Street
UID:e.865.3415
SEQUENCE:3
DTSTAMP:20260421T204200Z
URL:https://business.cultivatesewardcounty.com/events/details/amigos-fundraiser-for-seward-christmas-activities-10-16-2014-10-16-2013-3415
END:VEVENT

END:VCALENDAR
