BEGIN:VCALENDAR
VERSION:2.0
PRODID:-//ChamberMaster//Event Calendar 2.0//EN
METHOD:PUBLISH
X-PUBLISHED-TTL:P3D
REFRESH-INTERVAL:P3D
CALSCALE:GREGORIAN
BEGIN:VEVENT
DTSTART:20140410T140000Z
DTEND:20140410T210000Z
X-MICROSOFT-CDO-ALLDAYEVENT:FALSE
SUMMARY:American Red Cross Blood Drive
DESCRIPTION:American Red Cross Blood Drive\n\n\n\nhttp://www.cune.edu
X-ALT-DESC;FMTTYPE=text/html:American Red Cross Blood Drive<br />\n<br />\n<a href="http://www.cune.edu">http://www.cune.edu</a>
LOCATION:Concordia University Janzow Campus Center - Cattle Conference Room Lincoln St. (off Columbia St.) Seward\, NE
UID:e.865.3522
SEQUENCE:3
DTSTAMP:20260421T130345Z
URL:https://business.cultivatesewardcounty.com/events/details/american-red-cross-blood-drive-04-10-2014-3522
END:VEVENT

END:VCALENDAR
