BEGIN:VCALENDAR
VERSION:2.0
PRODID:-//ChamberMaster//Event Calendar 2.0//EN
METHOD:PUBLISH
X-PUBLISHED-TTL:P3D
REFRESH-INTERVAL:P3D
CALSCALE:GREGORIAN
BEGIN:VEVENT
DTSTART:20140324T000000Z
DTEND:20140324T020000Z
X-MICROSOFT-CDO-ALLDAYEVENT:FALSE
SUMMARY:A Cappella Concert 3/23/2014
DESCRIPTION:A Cappella Concert  -  everyone welcome to come and listen to some incredible music
X-ALT-DESC;FMTTYPE=text/html:A Cappella Concert&nbsp\; -&nbsp\; everyone welcome to come and listen to some incredible music
LOCATION:St. John's Lutheran Church 919 North Columbia Seward\, NE
UID:e.865.3518
SEQUENCE:3
DTSTAMP:20260421T142219Z
URL:https://business.cultivatesewardcounty.com/events/details/a-cappella-concert-3-23-2014-03-23-2014-3518
END:VEVENT

END:VCALENDAR
