BEGIN:VCALENDAR
VERSION:2.0
PRODID:-//ChamberMaster//Event Calendar 2.0//EN
METHOD:PUBLISH
X-PUBLISHED-TTL:P3D
REFRESH-INTERVAL:P3D
CALSCALE:GREGORIAN
BEGIN:VEVENT
DTSTART:20140125T010000Z
DTEND:20140125T030000Z
X-MICROSOFT-CDO-ALLDAYEVENT:FALSE
SUMMARY:5th & 6th Grades Fun Night 1/24/2014
DESCRIPTION:Seward Youth Center Fun Night for grades 5th & 6th
X-ALT-DESC;FMTTYPE=text/html:Seward Youth Center Fun Night for grades 5th &amp\; 6th&nbsp\;
LOCATION:Seward Youth Center 211 South 4th Street Seward\, NE
UID:e.865.3439
SEQUENCE:3
DTSTAMP:20260421T165439Z
URL:https://business.cultivatesewardcounty.com/events/details/5th-6th-grades-fun-night-1-24-2014-01-24-2014-3439
END:VEVENT

END:VCALENDAR
