BEGIN:VCALENDAR
VERSION:2.0
PRODID:-//ChamberMaster//Event Calendar 2.0//EN
METHOD:PUBLISH
X-PUBLISHED-TTL:P3D
REFRESH-INTERVAL:P3D
CALSCALE:GREGORIAN
BEGIN:VEVENT
DTSTART:20140413T130500Z
DTEND:20140413T180000Z
X-MICROSOFT-CDO-ALLDAYEVENT:FALSE
SUMMARY:4th Annual Bee Buzz Run 2014
DESCRIPTION:The 4th Annual Bee Buzz Run will be held Sunday\, April 13 2014 in Bee\, Nebraska.  A buffet breakfast will be served for a freewill offering from 8:00 am to 1:00 pm on race day.  All proceeds go toward the restoration of the Bee States Ballroom.\n\nhttp://www.beecommunity.org
X-ALT-DESC;FMTTYPE=text/html:<div style="color: gray\;">\n<div id="yui_3_13_0_ym1_1_1392133284798_2476"><span style="font-family: arial\;">The&nbsp\;4th Annual Bee Buzz Run will be held Sunday\, April 13 2014&nbsp\;in Bee\, Nebraska.&nbsp\; A buffet breakfast will be served for a freewill offering from 8:00 am to 1:00&nbsp\;pm on race day.&nbsp\; All proceeds go toward&nbsp\;the restoration of the Bee States Ballroom</span>.<br />\n<a href="http://www.beecommunity.org">http://www.beecommunity.org</a></div>\n</div>\n
LOCATION:States Ballroom Bee\, Nebraska
UID:e.865.3513
SEQUENCE:3
DTSTAMP:20260421T112626Z
URL:https://business.cultivatesewardcounty.com/events/details/4th-annual-bee-buzz-run-2014-04-13-2014-3513
END:VEVENT

END:VCALENDAR
