BEGIN:VCALENDAR
VERSION:2.0
PRODID:-//ChamberMaster//Event Calendar 2.0//EN
METHOD:PUBLISH
X-PUBLISHED-TTL:P3D
REFRESH-INTERVAL:P3D
CALSCALE:GREGORIAN
BEGIN:VEVENT
DTSTART:20140324T223000Z
DTEND:20140325T013000Z
X-MICROSOFT-CDO-ALLDAYEVENT:FALSE
SUMMARY:46th Kiwanis Ag Recognition Banquet 2014
DESCRIPTION:46th Kiwanis Annual Ag Recognition Banquet -  The evening begins with a social hour at 5:30 pm followed by an a Sterling Silver Prime Rib dinner at 6:30 pm.  The program consists of scholarships being presented to Seward County high school students\, Seward County Hall of Agricultural Achievement recipients announced and the Kiwanis outstanding Farm Family for 2014 will be honored.
X-ALT-DESC;FMTTYPE=text/html:46th Kiwanis Annual Ag Recognition Banquet -&nbsp\; The evening begins with a social hour at 5:30 pm followed by an&nbsp\;a&nbsp\;Sterling Silver Prime Rib&nbsp\;dinner at 6:30 pm.&nbsp\; The program consists of scholarships being presented to Seward County high school students\, Seward County Hall of Agricultural Achievement recipients announced and the Kiwanis outstanding Farm Family for 2014 will be honored.
LOCATION:Seward County Ag Pavilion 500 North 14th St. Seward\, NE
UID:e.865.3505
SEQUENCE:3
DTSTAMP:20260421T130047Z
URL:https://business.cultivatesewardcounty.com/events/details/46th-kiwanis-ag-recognition-banquet-2014-03-24-2014-3505
END:VEVENT

END:VCALENDAR
