BEGIN:VCALENDAR
VERSION:2.0
PRODID:-//ChamberMaster//Event Calendar 2.0//EN
METHOD:PUBLISH
X-PUBLISHED-TTL:P3D
REFRESH-INTERVAL:P3D
CALSCALE:GREGORIAN
BEGIN:VEVENT
DTSTART:20140329T220000Z
DTEND:20140330T030000Z
X-MICROSOFT-CDO-ALLDAYEVENT:FALSE
SUMMARY:35th Blue Valley Fishin' Blast Off 3/29/2014
DESCRIPTION:35th Annual Blue Valley Fishin' Blast Off  -  Fishing clinic and pork feed\, displays\,boats\, tackle and refreshments.  Food will be served from 6 pm to 8 pm.
X-ALT-DESC;FMTTYPE=text/html:35th Annual Blue Valley Fishin&#39\; Blast Off&nbsp\; -&nbsp\; Fishing clinic and pork feed\, displays\,boats\, tackle and refreshments.&nbsp\; Food will be served from 6 pm to 8 pm.
LOCATION:Seward County Fairgrounds Ag Pavilion 500 North 14th St. Seward\, NE
UID:e.865.3548
SEQUENCE:3
DTSTAMP:20260421T142000Z
URL:https://business.cultivatesewardcounty.com/events/details/35th-blue-valley-fishin-blast-off-3-29-2014-03-29-2014-3548
END:VEVENT

END:VCALENDAR
